BEGIN:VCALENDAR
VERSION:2.0
PRODID:-//MIT.IC.AT - ECPv6.15.17.1//NONSGML v1.0//EN
CALSCALE:GREGORIAN
METHOD:PUBLISH
X-ORIGINAL-URL:https://mitic.at
X-WR-CALDESC:Veranstaltungen für MIT.IC.AT
REFRESH-INTERVAL;VALUE=DURATION:PT1H
X-Robots-Tag:noindex
X-PUBLISHED-TTL:PT1H
BEGIN:VTIMEZONE
TZID:UTC
BEGIN:STANDARD
TZOFFSETFROM:+0000
TZOFFSETTO:+0000
TZNAME:UTC
DTSTART:20210101T000000
END:STANDARD
END:VTIMEZONE
BEGIN:VEVENT
DTSTART;VALUE=DATE:20221014
DTEND;VALUE=DATE:20221015
DTSTAMP:20260424T201131
CREATED:20220414T123540Z
LAST-MODIFIED:20250205T132729Z
UID:2262-1665705600-1665791999@mitic.at
SUMMARY:Forum "Made in Austria"
DESCRIPTION:Ein Tag voll aktueller Einblicke und spannender Ausblicke! Die TU Wien lädt gemeinsam mit mit EIT Manufacturing IC East\, FH Wien der WKW und Fraunhofer Austria in den schönsten Hörsaal – über den Dächern der Wiener Innenstadt – am Freitag\, 14.10.2022 im TUtheSky.  \nIm Anschluss an die Präsentation der Studienergebnisse zur „Produktionsarbeit in Österreich 2022“ von Prof. Sebastian Schlund (TU Wien\, Fraunhofer Austria) erwarten Sie interessante Vorträge aus Praxis und Wissenschaft. \n\n\nSie sehen gerade einen Platzhalterinhalt von Standard. Um auf den eigentlichen Inhalt zuzugreifen\, klicken Sie auf den Button unten. Bitte beachten Sie\, dass dabei Daten an Drittanbieter weitergegeben werden. \n Inhalt entsperren Erforderlichen Service akzeptieren und Inhalte entsperren \n Weitere Informationen
URL:https://mitic.at/veranstaltung/forum-made-in-austria/
LOCATION:TUtheSky\, Getreidemarkt 9\, Wien\, 1060\, Österreich
CATEGORIES:Featured,Wien
ATTACH;FMTTYPE=image/jpeg:https://mitic.at/wp-content/uploads/2022/03/news_mia.jpg
END:VEVENT
END:VCALENDAR