BEGIN:VCALENDAR
VERSION:2.0
PRODID:-//MIT.IC.AT - ECPv6.15.17.1//NONSGML v1.0//EN
CALSCALE:GREGORIAN
METHOD:PUBLISH
X-WR-CALNAME:MIT.IC.AT
X-ORIGINAL-URL:https://mitic.at
X-WR-CALDESC:Veranstaltungen für MIT.IC.AT
REFRESH-INTERVAL;VALUE=DURATION:PT1H
X-Robots-Tag:noindex
X-PUBLISHED-TTL:PT1H
BEGIN:VTIMEZONE
TZID:Europe/Vienna
BEGIN:DAYLIGHT
TZOFFSETFROM:+0100
TZOFFSETTO:+0200
TZNAME:CEST
DTSTART:20210328T010000
END:DAYLIGHT
BEGIN:STANDARD
TZOFFSETFROM:+0200
TZOFFSETTO:+0100
TZNAME:CET
DTSTART:20211031T010000
END:STANDARD
BEGIN:DAYLIGHT
TZOFFSETFROM:+0100
TZOFFSETTO:+0200
TZNAME:CEST
DTSTART:20220327T010000
END:DAYLIGHT
BEGIN:STANDARD
TZOFFSETFROM:+0200
TZOFFSETTO:+0100
TZNAME:CET
DTSTART:20221030T010000
END:STANDARD
BEGIN:DAYLIGHT
TZOFFSETFROM:+0100
TZOFFSETTO:+0200
TZNAME:CEST
DTSTART:20230326T010000
END:DAYLIGHT
BEGIN:STANDARD
TZOFFSETFROM:+0200
TZOFFSETTO:+0100
TZNAME:CET
DTSTART:20231029T010000
END:STANDARD
END:VTIMEZONE
BEGIN:VEVENT
DTSTART;VALUE=DATE:20221005
DTEND;VALUE=DATE:20221007
DTSTAMP:20260424T213520
CREATED:20220706T140327Z
LAST-MODIFIED:20220706T140327Z
UID:2540-1664928000-1665100799@mitic.at
SUMMARY:WPK 2022
DESCRIPTION:Der 5. Wiener Produktionstechnik Kongress – WPK 2022 – adressiert Herausforderungen von intelligenten und hochadaptiven Produktionssystemen und die angepasste Informationstechnologie inkludiert Applikationen des Machine Learning für schnellere Prozessadaptionen. Hochrangige nationale und internationale Experten aus regierungsnahen Organisationen\, Industrie und Forschungseinrichtungen werden Einblicke in die neuesten Resultate von technologischen\, funktionellen und ausführenden Herausforderungen industrieller Applikationen geben. \nDer WPK 2022 strebt das Ziel an\, Entscheidungsträger\, Produktionsmanager und Ingenieure mit einem Netzwerk von Experten zu verknüpfen – eine Möglichkeit einerseits zur Diskussion optimaler Verfahrenslösungen und andererseits zur Mitgestaltung der fertigungstechnischen Zukunft anzuregen.
URL:https://mitic.at/veranstaltung/wpk-2022/
LOCATION:Palais Niederösterreich\, Herrengasse 13\, Wien\, 1010\, Österreich
CATEGORIES:Featured,Online,Wien
ATTACH;FMTTYPE=image/jpeg:https://mitic.at/wp-content/uploads/2022/07/wpk2022.jpg
ORGANIZER;CN="Technische Universit%C3%A4t Wien - Institut f%C3%BCr Fertigungstechnik u. Photonische Technologien":MAILTO:kostrova@ift.at
END:VEVENT
END:VCALENDAR